BEGIN:VCALENDAR
VERSION:2.0
PRODID:-//Food Bank of Delaware - ECPv6.15.20//NONSGML v1.0//EN
CALSCALE:GREGORIAN
METHOD:PUBLISH
X-ORIGINAL-URL:https://www.fbd.org
X-WR-CALDESC:Events for Food Bank of Delaware
REFRESH-INTERVAL;VALUE=DURATION:PT1H
X-Robots-Tag:noindex
X-PUBLISHED-TTL:PT1H
BEGIN:VTIMEZONE
TZID:UTC
BEGIN:STANDARD
TZOFFSETFROM:+0000
TZOFFSETTO:+0000
TZNAME:UTC
DTSTART:20240101T000000
END:STANDARD
END:VTIMEZONE
BEGIN:VEVENT
DTSTART;TZID=UTC:20250416T180000
DTEND;TZID=UTC:20250416T200000
DTSTAMP:20260424T011155
CREATED:20250317T203558Z
LAST-MODIFIED:20250317T203558Z
UID:24567-1744826400-1744833600@www.fbd.org
SUMMARY:Dinner at Drip
DESCRIPTION:Welcome the season with a vibrant 4-course spring dinner\, expertly paired with hand-selected wines. Enjoy fresh\, seasonal flavors while supporting a great cause – each ticket includes dinner\, wine pairings\, gratuity & a charitable donation to the Food Bank of Delaware. Additional wine by the glass or bottle will be available for purchase. \nCost: $100/person (includes 4-course dinner\, wine-pairings\, gratuity & charitable donation).
URL:https://www.fbd.org/event/dinner-at-drip/
LOCATION:Drip Cafe\, 144 Lantana Drive\, Hockessin\, Delaware\, 19707
CATEGORIES:Dinners
END:VEVENT
END:VCALENDAR