BEGIN:VCALENDAR
VERSION:2.0
PRODID:-//Food Bank of Delaware - ECPv6.15.20//NONSGML v1.0//EN
CALSCALE:GREGORIAN
METHOD:PUBLISH
X-WR-CALNAME:Food Bank of Delaware
X-ORIGINAL-URL:https://www.fbd.org
X-WR-CALDESC:Events for Food Bank of Delaware
REFRESH-INTERVAL;VALUE=DURATION:PT1H
X-Robots-Tag:noindex
X-PUBLISHED-TTL:PT1H
BEGIN:VTIMEZONE
TZID:America/New_York
BEGIN:DAYLIGHT
TZOFFSETFROM:-0500
TZOFFSETTO:-0400
TZNAME:EDT
DTSTART:20240310T070000
END:DAYLIGHT
BEGIN:STANDARD
TZOFFSETFROM:-0400
TZOFFSETTO:-0500
TZNAME:EST
DTSTART:20241103T060000
END:STANDARD
BEGIN:DAYLIGHT
TZOFFSETFROM:-0500
TZOFFSETTO:-0400
TZNAME:EDT
DTSTART:20250309T070000
END:DAYLIGHT
BEGIN:STANDARD
TZOFFSETFROM:-0400
TZOFFSETTO:-0500
TZNAME:EST
DTSTART:20251102T060000
END:STANDARD
BEGIN:DAYLIGHT
TZOFFSETFROM:-0500
TZOFFSETTO:-0400
TZNAME:EDT
DTSTART:20260308T070000
END:DAYLIGHT
BEGIN:STANDARD
TZOFFSETFROM:-0400
TZOFFSETTO:-0500
TZNAME:EST
DTSTART:20261101T060000
END:STANDARD
END:VTIMEZONE
BEGIN:VEVENT
DTSTART;TZID=America/New_York:20251022T100000
DTEND;TZID=America/New_York:20251022T140000
DTSTAMP:20260425T115834
CREATED:20250930T204152Z
LAST-MODIFIED:20250930T204152Z
UID:25617-1761127200-1761141600@www.fbd.org
SUMMARY:Fall Job and Resource Fair
DESCRIPTION:Looking for employment or want to make a career change? Want to connect with community resources? Join us for our Fall Community Resource and Job Fair! Job fair participants will also have an opportunity to visit our on-site mobile pantry!
URL:https://www.fbd.org/event/fall-job-and-resource-fair/
LOCATION:Food Bank of Delaware\, 222 Lake Drive\, Newark\, DE\, 19702\, United States
CATEGORIES:Job and Resource Fair
END:VEVENT
END:VCALENDAR