BEGIN:VCALENDAR
VERSION:2.0
PRODID:-//Food Bank of Delaware - ECPv6.15.20//NONSGML v1.0//EN
CALSCALE:GREGORIAN
METHOD:PUBLISH
X-ORIGINAL-URL:https://www.fbd.org
X-WR-CALDESC:Events for Food Bank of Delaware
REFRESH-INTERVAL;VALUE=DURATION:PT1H
X-Robots-Tag:noindex
X-PUBLISHED-TTL:PT1H
BEGIN:VTIMEZONE
TZID:UTC
BEGIN:STANDARD
TZOFFSETFROM:+0000
TZOFFSETTO:+0000
TZNAME:UTC
DTSTART:20250101T000000
END:STANDARD
END:VTIMEZONE
BEGIN:VTIMEZONE
TZID:America/New_York
BEGIN:DAYLIGHT
TZOFFSETFROM:-0500
TZOFFSETTO:-0400
TZNAME:EDT
DTSTART:20250309T070000
END:DAYLIGHT
BEGIN:STANDARD
TZOFFSETFROM:-0400
TZOFFSETTO:-0500
TZNAME:EST
DTSTART:20251102T060000
END:STANDARD
BEGIN:DAYLIGHT
TZOFFSETFROM:-0500
TZOFFSETTO:-0400
TZNAME:EDT
DTSTART:20260308T070000
END:DAYLIGHT
BEGIN:STANDARD
TZOFFSETFROM:-0400
TZOFFSETTO:-0500
TZNAME:EST
DTSTART:20261101T060000
END:STANDARD
BEGIN:DAYLIGHT
TZOFFSETFROM:-0500
TZOFFSETTO:-0400
TZNAME:EDT
DTSTART:20270314T070000
END:DAYLIGHT
BEGIN:STANDARD
TZOFFSETFROM:-0400
TZOFFSETTO:-0500
TZNAME:EST
DTSTART:20271107T060000
END:STANDARD
END:VTIMEZONE
BEGIN:VEVENT
DTSTART;TZID=UTC:20260924T173000
DTEND;TZID=UTC:20260924T200000
DTSTAMP:20260421T205049
CREATED:20240918T043500Z
LAST-MODIFIED:20260112T152041Z
UID:23607-1790271000-1790280000@www.fbd.org
SUMMARY:The Farmer and The Chef
DESCRIPTION:Enjoy an evening of farm-fresh foods outside in the Food Bank of Delaware’s new 3.5-acre garden in Milford. Each chef will be paired with a local farmer to prepare tasting samples using locally-grown produce! There will be live music\, drinks and fun! 
URL:https://www.fbd.org/event/the-farmer-and-the-chef/
LOCATION:Food Bank of Delaware Milford\, 102 Delaware Veterans Blvd.\, Milford\, DE\, 19963\, United States
CATEGORIES:Dinners
END:VEVENT
BEGIN:VEVENT
DTSTART;TZID=America/New_York:20261019T110000
DTEND;TZID=America/New_York:20261019T190000
DTSTAMP:20260421T205049
CREATED:20250908T120844Z
LAST-MODIFIED:20260112T152335Z
UID:25476-1792407600-1792436400@www.fbd.org
SUMMARY:Food Bank of Delaware Golf Tournament
DESCRIPTION:Join Food Bank of Delaware supporters for a day of golf at the DuPont Country Club in Greenville\, while helping to raise money for the weekend Backpack Program for kids. \nWhen: Monday\, October 19\, 2026; 11:00 a.m.\nWhere: DuPont Country Club\n1001 Rockland Road\nWilmington\, DE 1980\nCost: $2\,000/foursome; $500/individual golfer \nAgenda:\n11:00 a.m. – Registration and box lunches\n12:30 p.m. – Shotgun start\n5:30 p.m. – 7:30 p.m. – Cocktail reception
URL:https://www.fbd.org/event/food-bank-of-delaware-golf-tournament/
LOCATION:Dupont Country Club\, 1001 Rockland Road\, Wilmington\, Delaware\, 19807
CATEGORIES:Golf
END:VEVENT
END:VCALENDAR